BEGIN:VCALENDAR
VERSION:2.0
PRODID:-//RegulatorGuards - ECPv6.13.0//NONSGML v1.0//EN
CALSCALE:GREGORIAN
METHOD:PUBLISH
X-WR-CALNAME:RegulatorGuards
X-ORIGINAL-URL:https://www.regulatorguards.com
X-WR-CALDESC:Events for RegulatorGuards
REFRESH-INTERVAL;VALUE=DURATION:PT1H
X-Robots-Tag:noindex
X-PUBLISHED-TTL:PT1H
BEGIN:VTIMEZONE
TZID:America/New_York
BEGIN:DAYLIGHT
TZOFFSETFROM:-0500
TZOFFSETTO:-0400
TZNAME:EDT
DTSTART:20170312T070000
END:DAYLIGHT
BEGIN:STANDARD
TZOFFSETFROM:-0400
TZOFFSETTO:-0500
TZNAME:EST
DTSTART:20171105T060000
END:STANDARD
BEGIN:DAYLIGHT
TZOFFSETFROM:-0500
TZOFFSETTO:-0400
TZNAME:EDT
DTSTART:20180311T070000
END:DAYLIGHT
BEGIN:STANDARD
TZOFFSETFROM:-0400
TZOFFSETTO:-0500
TZNAME:EST
DTSTART:20181104T060000
END:STANDARD
END:VTIMEZONE
BEGIN:VEVENT
DTSTART;VALUE=DATE:20180111
DTEND;VALUE=DATE:20180112
DTSTAMP:20260420T003406
CREATED:20171207T212557Z
LAST-MODIFIED:20171207T212557Z
UID:1243-1515628800-1515715199@www.regulatorguards.com
SUMMARY:ABHES Commission Meeting - Day 2
DESCRIPTION:ABHES accreditation reviews go before Commission.
URL:https://www.regulatorguards.com/event/abhes-commission-meeting-day-2/
LOCATION:Texas
CATEGORIES:Meeting
END:VEVENT
BEGIN:VEVENT
DTSTART;VALUE=DATE:20180110
DTEND;VALUE=DATE:20180111
DTSTAMP:20260420T003406
CREATED:20171207T210553Z
LAST-MODIFIED:20171207T210553Z
UID:1239-1515542400-1515628799@www.regulatorguards.com
SUMMARY:ABHES Commission Meeting
DESCRIPTION:ABHES Accreditation Reviews go before Commission
URL:https://www.regulatorguards.com/event/abhes-commission-meeting/
LOCATION:Texas
CATEGORIES:Meeting
END:VEVENT
BEGIN:VEVENT
DTSTART;TZID=America/New_York:20171221T083000
DTEND;TZID=America/New_York:20171221T120000
DTSTAMP:20260420T003406
CREATED:20171207T220025Z
LAST-MODIFIED:20171207T220025Z
UID:1256-1513845000-1513857600@www.regulatorguards.com
SUMMARY:Compliance Deadline
DESCRIPTION:Last day to submit compliance requests for completion in 2017.
URL:https://www.regulatorguards.com/event/compliance-deadline/
LOCATION:Texas
CATEGORIES:Deadline
END:VEVENT
END:VCALENDAR