BEGIN:VCALENDAR
VERSION:2.0
PRODID:-//RegulatorGuards - ECPv6.13.0//NONSGML v1.0//EN
CALSCALE:GREGORIAN
METHOD:PUBLISH
X-WR-CALNAME:RegulatorGuards
X-ORIGINAL-URL:https://www.regulatorguards.com
X-WR-CALDESC:Events for RegulatorGuards
REFRESH-INTERVAL;VALUE=DURATION:PT1H
X-Robots-Tag:noindex
X-PUBLISHED-TTL:PT1H
BEGIN:VTIMEZONE
TZID:America/New_York
BEGIN:DAYLIGHT
TZOFFSETFROM:-0500
TZOFFSETTO:-0400
TZNAME:EDT
DTSTART:20180311T070000
END:DAYLIGHT
BEGIN:STANDARD
TZOFFSETFROM:-0400
TZOFFSETTO:-0500
TZNAME:EST
DTSTART:20181104T060000
END:STANDARD
BEGIN:DAYLIGHT
TZOFFSETFROM:-0500
TZOFFSETTO:-0400
TZNAME:EDT
DTSTART:20190310T070000
END:DAYLIGHT
BEGIN:STANDARD
TZOFFSETFROM:-0400
TZOFFSETTO:-0500
TZNAME:EST
DTSTART:20191103T060000
END:STANDARD
END:VTIMEZONE
BEGIN:VEVENT
DTSTART;TZID=America/New_York:20190314T080000
DTEND;TZID=America/New_York:20190315T170000
DTSTAMP:20260419T123412
CREATED:20190106T054638Z
LAST-MODIFIED:20190106T054638Z
UID:1595-1552550400-1552669200@www.regulatorguards.com
SUMMARY:ACEN Self-Study Forum
DESCRIPTION:Westin Peachtree Plaza Atlanta Hotel
URL:https://www.regulatorguards.com/event/acen-self-study-forum-3/
CATEGORIES:Meeting
END:VEVENT
BEGIN:VEVENT
DTSTART;TZID=America/New_York:20190311T080000
DTEND;TZID=America/New_York:20190312T170000
DTSTAMP:20260419T123412
CREATED:20181226T232603Z
LAST-MODIFIED:20181226T232604Z
UID:1505-1552291200-1552410000@www.regulatorguards.com
SUMMARY:ACCSC Accreditation Workshop
DESCRIPTION:Mandatory Workshop to apply for Initial Institutional Accreditation through ACCSC.
URL:https://www.regulatorguards.com/event/accsc-accreditation-workshop/
CATEGORIES:Event
END:VEVENT
BEGIN:VEVENT
DTSTART;TZID=America/New_York:20190305T080000
DTEND;TZID=America/New_York:20190305T080000
DTSTAMP:20260419T123412
CREATED:20181205T162945Z
LAST-MODIFIED:20190304T154057Z
UID:1441-1551772800-1551772800@www.regulatorguards.com
SUMMARY:Florida Legislative Session Begins
DESCRIPTION:Florida Legislative begins today. Sine die is expected to be May 3\, 2019. Do your legislators know what is important to your small business?
URL:https://www.regulatorguards.com/event/florida-legislative-session-begins/
LOCATION:Florida Capitol Complex\, 400 South Monroe Street\, Tallahassee\, Florida\, 32399
ATTACH;FMTTYPE=image/png:https://www.regulatorguards.com/wp-content/uploads/2018/12/Florida-Seal.png
END:VEVENT
BEGIN:VEVENT
DTSTART;VALUE=DATE:20190220
DTEND;VALUE=DATE:20190223
DTSTAMP:20260419T123412
CREATED:20171212T053219Z
LAST-MODIFIED:20190106T150153Z
UID:1306-1550620800-1550879999@www.regulatorguards.com
SUMMARY:ABHES National Conference
DESCRIPTION:Allied Health Compliance Training and networking opportunities.
URL:https://www.regulatorguards.com/event/abhes-national-conference/
LOCATION:Westin Savannah Harbour\, Savannah\, GA\, United States
CATEGORIES:Meeting
END:VEVENT
BEGIN:VEVENT
DTSTART;TZID=America/New_York:20190206T080000
DTEND;TZID=America/New_York:20190208T170000
DTSTAMP:20260419T123412
CREATED:20190106T151941Z
LAST-MODIFIED:20190106T152004Z
UID:1610-1549440000-1549645200@www.regulatorguards.com
SUMMARY:Florida Board of Nursing Meeting
DESCRIPTION:Regulatory Meeting to determine licensure and program status
URL:https://www.regulatorguards.com/event/florida-board-of-nursing-meeting/
LOCATION:Mission Inn Resort\, 10400 County Road 48\, Howey-In-The-Hills\, FL\, 34737\, United States
CATEGORIES:Meeting
END:VEVENT
BEGIN:VEVENT
DTSTART;TZID=America/New_York:20190131T080000
DTEND;TZID=America/New_York:20190131T170000
DTSTAMP:20260419T123412
CREATED:20181205T175513Z
LAST-MODIFIED:20181205T175513Z
UID:1448-1548921600-1548954000@www.regulatorguards.com
SUMMARY:ABHES Application Deadline
DESCRIPTION:Deadline to apply for initial institutional or programmatic accreditation through ABHES.
URL:https://www.regulatorguards.com/event/abhes-application-deadline-3/
CATEGORIES:Deadline
END:VEVENT
BEGIN:VEVENT
DTSTART;TZID=America/New_York:20190115T080000
DTEND;TZID=America/New_York:20190115T170000
DTSTAMP:20260419T123412
CREATED:20190106T050905Z
LAST-MODIFIED:20190106T055202Z
UID:1588-1547539200-1547571600@www.regulatorguards.com
SUMMARY:CIE Meeting
DESCRIPTION:Degree-granting institutions quarterly regulatory meeting \n10400 County Road 48\nHowey-In-The-Hills\, Florida 34737
URL:https://www.regulatorguards.com/event/cie-meeting-9/
LOCATION:Mission Inn Resort\, 10400 County Road 48\, Howey-In-The-Hills\, FL\, 34737\, United States
CATEGORIES:Meeting
END:VEVENT
BEGIN:VEVENT
DTSTART;TZID=America/New_York:20190109T080000
DTEND;TZID=America/New_York:20190110T170000
DTSTAMP:20260419T123412
CREATED:20190106T151623Z
LAST-MODIFIED:20190106T151623Z
UID:1607-1547020800-1547139600@www.regulatorguards.com
SUMMARY:ABHES Commission Meeting
DESCRIPTION:January 2019 Commission Meeting to consider applications\, status etc.
URL:https://www.regulatorguards.com/event/abhes-commission-meeting-3/
CATEGORIES:Meeting
END:VEVENT
BEGIN:VEVENT
DTSTART;TZID=America/New_York:20180731T080000
DTEND;TZID=America/New_York:20180731T170000
DTSTAMP:20260419T123412
CREATED:20180206T150915Z
LAST-MODIFIED:20180206T150915Z
UID:1387-1533024000-1533056400@www.regulatorguards.com
SUMMARY:CIE Meeting
DESCRIPTION:Florida non-degree granting institutions public regulatory meeting.
URL:https://www.regulatorguards.com/event/cie-meeting-8/
CATEGORIES:Meeting
END:VEVENT
BEGIN:VEVENT
DTSTART;VALUE=DATE:20180731
DTEND;VALUE=DATE:20180801
DTSTAMP:20260419T123412
CREATED:20180203T141434Z
LAST-MODIFIED:20180203T141455Z
UID:1371-1532995200-1533081599@www.regulatorguards.com
SUMMARY:ABHES Application Deadline
DESCRIPTION:Due Date for Applications for Initial Institutional or Programmatic ABHES Accreditation.
URL:https://www.regulatorguards.com/event/abhes-application-deadline-2/
CATEGORIES:Deadline
END:VEVENT
BEGIN:VEVENT
DTSTART;VALUE=DATE:20180730
DTEND;VALUE=DATE:20180731
DTSTAMP:20260419T123412
CREATED:20180206T150819Z
LAST-MODIFIED:20180206T150819Z
UID:1385-1532908800-1532995199@www.regulatorguards.com
SUMMARY:CIE Meeting
DESCRIPTION:Florida degree-granting institutions public regulatory meeting.
URL:https://www.regulatorguards.com/event/cie-meeting-7/
LOCATION:Mission Inn Resort\, 10400 County Road 48\, Howey-In-The-Hills\, FL\, 34737\, United States
CATEGORIES:Meeting
END:VEVENT
BEGIN:VEVENT
DTSTART;VALUE=DATE:20180729
DTEND;VALUE=DATE:20180804
DTSTAMP:20260419T123412
CREATED:20180206T162745Z
LAST-MODIFIED:20180206T162846Z
UID:1399-1532822400-1533340799@www.regulatorguards.com
SUMMARY:NBA Annual Convention
DESCRIPTION:Annual Convention of the National Bar Association. Sec Outsourcing attorneys may be unavailable during the convention.
URL:https://www.regulatorguards.com/event/nba-annual-convention/
LOCATION:Hilton New Orleans Riverside Hotel\, Two Poydras Street\, New Orleans\, LA\, 70130\, United States
CATEGORIES:Meeting
END:VEVENT
BEGIN:VEVENT
DTSTART;TZID=America/New_York:20180726T140000
DTEND;TZID=America/New_York:20180726T150000
DTSTAMP:20260419T123412
CREATED:20180206T151409Z
LAST-MODIFIED:20180206T151409Z
UID:1391-1532613600-1532617200@www.regulatorguards.com
SUMMARY:Client Remittance
DESCRIPTION:Monthly Remittance to debt collection clients.
URL:https://www.regulatorguards.com/event/client-remittance-7/
END:VEVENT
BEGIN:VEVENT
DTSTART;VALUE=DATE:20180719
DTEND;VALUE=DATE:20180720
DTSTAMP:20260419T123412
CREATED:20180203T140926Z
LAST-MODIFIED:20180203T140926Z
UID:1367-1531958400-1532044799@www.regulatorguards.com
SUMMARY:COE Application Deadline
DESCRIPTION:Due Date for Applications for Initial Accreditation through the Council on Occupational Education.
URL:https://www.regulatorguards.com/event/coe-application-deadline-2/
CATEGORIES:Deadline
END:VEVENT
BEGIN:VEVENT
DTSTART;VALUE=DATE:20180718
DTEND;VALUE=DATE:20180720
DTSTAMP:20260419T123412
CREATED:20180206T161308Z
LAST-MODIFIED:20180206T161308Z
UID:1397-1531872000-1532044799@www.regulatorguards.com
SUMMARY:ABHES Commission Meeting
DESCRIPTION:ABHES Accreditation Reviews (Initial and Renewals) go before the Commission.
URL:https://www.regulatorguards.com/event/abhes-commission-meeting-2/
CATEGORIES:Meeting
END:VEVENT
BEGIN:VEVENT
DTSTART;TZID=America/New_York:20180710T080000
DTEND;TZID=America/New_York:20180711T170000
DTSTAMP:20260419T123412
CREATED:20180205T155915Z
LAST-MODIFIED:20180205T155915Z
UID:1382-1531209600-1531328400@www.regulatorguards.com
SUMMARY:ACEN Commission Meeting
DESCRIPTION:Determinations regarding initial and continuing accreditation through the ACEN.
URL:https://www.regulatorguards.com/event/acen-commission-meeting-2/
CATEGORIES:Event
END:VEVENT
BEGIN:VEVENT
DTSTART;TZID=America/New_York:20180623T180000
DTEND;TZID=America/New_York:20180623T200000
DTSTAMP:20260419T123412
CREATED:20180523T171030Z
LAST-MODIFIED:20180523T171030Z
UID:1418-1529776800-1529784000@www.regulatorguards.com
SUMMARY:Sunset Supper & Strategy Session
DESCRIPTION:Sec Outsourcing Founder\, Shavon Jones\, invites Nursing School Owners to a strategy session with Florida lawmakers to learn how to advocate for an extension of the July 1\, 2019 accreditation deadline. Enjoy a Southern-Caribbean Fusion supper by Chef Paul (www.chef-paul.com) followed by a panel discussion by elected members of the Florida Legislature. Attire: Garden Casual. Only 24 slots available. RSVP required to receive Agenda and complimentary admission and valet parking.
URL:https://www.regulatorguards.com/event/sunset-supper-strategy-session/
LOCATION:Quayside Garden Pavilion\, 1000 Quayside Terrace\, Miami\, Florida\, 33138
CATEGORIES:Event
ATTACH;FMTTYPE=image/jpeg:https://www.regulatorguards.com/wp-content/uploads/2018/05/Quayside-pavilion.jpg
END:VEVENT
BEGIN:VEVENT
DTSTART;VALUE=DATE:20180531
DTEND;VALUE=DATE:20180601
DTSTAMP:20260419T123412
CREATED:20180203T142334Z
LAST-MODIFIED:20180203T142334Z
UID:1375-1527724800-1527811199@www.regulatorguards.com
SUMMARY:CIE Meeting
DESCRIPTION:Florida non degree-granting institutions public regulatory meeting.
URL:https://www.regulatorguards.com/event/cie-meeting-6/
LOCATION:Mission Inn Resort\, 10400 County Road 48\, Howey-In-The-Hills\, FL\, 34737\, United States
CATEGORIES:Meeting
END:VEVENT
BEGIN:VEVENT
DTSTART;VALUE=DATE:20180530
DTEND;VALUE=DATE:20180531
DTSTAMP:20260419T123412
CREATED:20180203T142233Z
LAST-MODIFIED:20180203T142233Z
UID:1373-1527638400-1527724799@www.regulatorguards.com
SUMMARY:CIE Meeting
DESCRIPTION:Florida degree-granting institutions public regulatory meeting.
URL:https://www.regulatorguards.com/event/cie-meeting-5/
LOCATION:Mission Inn Resort\, 10400 County Road 48\, Howey-In-The-Hills\, FL\, 34737\, United States
CATEGORIES:Meeting
END:VEVENT
BEGIN:VEVENT
DTSTART;VALUE=DATE:20180501
DTEND;VALUE=DATE:20180502
DTSTAMP:20260419T123412
CREATED:20180203T142909Z
LAST-MODIFIED:20180203T142923Z
UID:1377-1525132800-1525219199@www.regulatorguards.com
SUMMARY:ABHES Final SER Deadline
DESCRIPTION:Final Self-evaluation Report is due for July 2017 ABHES applicants for Initial Accreditation.
URL:https://www.regulatorguards.com/event/abhes-final-ser-due/
CATEGORIES:Deadline
END:VEVENT
BEGIN:VEVENT
DTSTART;VALUE=DATE:20180430
DTEND;VALUE=DATE:20180501
DTSTAMP:20260419T123412
CREATED:20180206T155043Z
LAST-MODIFIED:20180206T155043Z
UID:1395-1525046400-1525132799@www.regulatorguards.com
SUMMARY:FL Annual Report Deadline
DESCRIPTION:Deadline for Florida business entities to file Annual Report. Failure to meet deadline results in Administrative Dissolution of the legal entity.
URL:https://www.regulatorguards.com/event/fl-annual-report-deadline/
CATEGORIES:Deadline
END:VEVENT
BEGIN:VEVENT
DTSTART;VALUE=DATE:20180419
DTEND;VALUE=DATE:20180420
DTSTAMP:20260419T123412
CREATED:20180125T234338Z
LAST-MODIFIED:20180125T234338Z
UID:1352-1524096000-1524182399@www.regulatorguards.com
SUMMARY:COE Application Deadline
DESCRIPTION:Applications for Initial Accreditation through the Council on Occupational Education due date.
URL:https://www.regulatorguards.com/event/coe-application-deadline/
CATEGORIES:Deadline
END:VEVENT
BEGIN:VEVENT
DTSTART;VALUE=DATE:20180405
DTEND;VALUE=DATE:20180407
DTSTAMP:20260419T123412
CREATED:20180203T140112Z
LAST-MODIFIED:20180203T140112Z
UID:1359-1522886400-1523059199@www.regulatorguards.com
SUMMARY:ACEN Self-Study Forum
DESCRIPTION:Training re: completion of self-study evaluation and report.
URL:https://www.regulatorguards.com/event/acen-self-study-forum-2/
LOCATION:Hyatt Regency San Antonio\, 123 Lasoya Street\, San Antonio\, Texas\, 78205
CATEGORIES:Meeting
END:VEVENT
BEGIN:VEVENT
DTSTART;VALUE=DATE:20180404
DTEND;VALUE=DATE:20180407
DTSTAMP:20260419T123412
CREATED:20180314T163806Z
LAST-MODIFIED:20180314T163806Z
UID:1413-1522800000-1523059199@www.regulatorguards.com
SUMMARY:Board of Nursing Meeting
DESCRIPTION:Florida Board of Nursing Credentials Meeting.
URL:https://www.regulatorguards.com/event/board-of-nursing-meeting/
LOCATION:Tampa Marriott Westshore\, 1001 N Westshore Blvd\, Tampa\, Florida\, 33607
CATEGORIES:Meeting
END:VEVENT
BEGIN:VEVENT
DTSTART;VALUE=DATE:20180404
DTEND;VALUE=DATE:20180405
DTSTAMP:20260419T123412
CREATED:20180203T135850Z
LAST-MODIFIED:20180203T135850Z
UID:1356-1522800000-1522886399@www.regulatorguards.com
SUMMARY:ACEN Nurse Administrator Workshop
DESCRIPTION:Training for program directors on effectively leading an ACEN-accredited nursing program.
URL:https://www.regulatorguards.com/event/acen-nurse-administrator-workshop/
LOCATION:Hyatt Regency San Antonio\, 123 Lasoya Street\, San Antonio\, Texas\, 78205
CATEGORIES:Meeting
END:VEVENT
BEGIN:VEVENT
DTSTART;VALUE=DATE:20180328
DTEND;VALUE=DATE:20180329
DTSTAMP:20260419T123412
CREATED:20180112T093510Z
LAST-MODIFIED:20180112T093510Z
UID:1337-1522195200-1522281599@www.regulatorguards.com
SUMMARY:CIE Meeting
DESCRIPTION:Florida non-degree granting institutions quarterly public meeting.
URL:https://www.regulatorguards.com/event/cie-meeting-4/
LOCATION:Mission Inn Resort\, 10400 County Road 48\, Howey-In-The-Hills\, FL\, 34737\, United States
CATEGORIES:Meeting
END:VEVENT
BEGIN:VEVENT
DTSTART;VALUE=DATE:20180327
DTEND;VALUE=DATE:20180328
DTSTAMP:20260419T123412
CREATED:20180112T093327Z
LAST-MODIFIED:20180112T093327Z
UID:1335-1522108800-1522195199@www.regulatorguards.com
SUMMARY:CIE Meeting
DESCRIPTION:Florida degree-granting institutions quarterly public regulatory meeting.
URL:https://www.regulatorguards.com/event/cie-meeting-3/
LOCATION:Mission Inn Resort\, 10400 County Road 48\, Howey-In-The-Hills\, FL\, 34737\, United States
CATEGORIES:Meeting
END:VEVENT
BEGIN:VEVENT
DTSTART;VALUE=DATE:20180315
DTEND;VALUE=DATE:20180316
DTSTAMP:20260419T123412
CREATED:20180206T153837Z
LAST-MODIFIED:20180206T153837Z
UID:1393-1521072000-1521158399@www.regulatorguards.com
SUMMARY:C-Corp Conversion Deadline
DESCRIPTION:Deadline for small businesses to elect to be taxed as C-Corporations for the entire 2018 calendar year for Federal Income Tax purposes.
URL:https://www.regulatorguards.com/event/c-corp-conversion-deadline/
CATEGORIES:Deadline
END:VEVENT
BEGIN:VEVENT
DTSTART;VALUE=DATE:20180315
DTEND;VALUE=DATE:20180317
DTSTAMP:20260419T123412
CREATED:20171212T054535Z
LAST-MODIFIED:20171212T054535Z
UID:1309-1521072000-1521244799@www.regulatorguards.com
SUMMARY:ACEN Self-Study Forum
DESCRIPTION:Training re: completion of self-study evaluation and report.
URL:https://www.regulatorguards.com/event/acen-self-study-forum/
LOCATION:Omni Providence Hotel\, 1 W Exchange Street\, Providence\, RI\, 02903\, United States
CATEGORIES:Meeting
END:VEVENT
BEGIN:VEVENT
DTSTART;VALUE=DATE:20180308
DTEND;VALUE=DATE:20180310
DTSTAMP:20260419T123412
CREATED:20180205T155514Z
LAST-MODIFIED:20180205T155514Z
UID:1380-1520467200-1520639999@www.regulatorguards.com
SUMMARY:ACEN Commission Meeting
DESCRIPTION:Determinations regarding initial and continuing accreditation through the ACEN.
URL:https://www.regulatorguards.com/event/acen-commission-meeting/
CATEGORIES:Event
END:VEVENT
END:VCALENDAR